Package: DirichletMultinomial Version: 1.49.0 Command: chmod a+r DirichletMultinomial -R && E:\biocbuild\bbs-3.21-bioc\R\bin\R.exe CMD build --keep-empty-dirs --no-resave-data DirichletMultinomial StartedAt: 2025-02-21 19:04:52 -0500 (Fri, 21 Feb 2025) EndedAt: 2025-02-21 19:06:08 -0500 (Fri, 21 Feb 2025) EllapsedTime: 75.9 seconds RetCode: 0 Status: OK PackageFile: DirichletMultinomial_1.49.0.tar.gz PackageFileSize: 658.4 KiB