Package: DirichletMultinomial Version: 1.49.0 Command: rm -rf DirichletMultinomial.buildbin-libdir && mkdir DirichletMultinomial.buildbin-libdir && E:\biocbuild\bbs-3.21-bioc\R\bin\R.exe CMD INSTALL --build --library=DirichletMultinomial.buildbin-libdir DirichletMultinomial_1.49.0.tar.gz StartedAt: 2025-02-22 08:14:31 -0500 (Sat, 22 Feb 2025) EndedAt: 2025-02-22 08:16:28 -0500 (Sat, 22 Feb 2025) EllapsedTime: 116.9 seconds RetCode: 0 Status: OK PackageFile: DirichletMultinomial_1.49.0.zip PackageFileSize: 1.007 MiB