Package: DirichletMultinomial Version: 1.49.0 Command: rm -rf DirichletMultinomial.buildbin-libdir && mkdir DirichletMultinomial.buildbin-libdir && /Users/biocbuild/BBS/utils/build-universal.sh DirichletMultinomial_1.49.0.tar.gz /Library/Frameworks/R.framework/Resources/bin/R DirichletMultinomial.buildbin-libdir StartedAt: 2025-02-21 00:28:10 -0500 (Fri, 21 Feb 2025) EndedAt: 2025-02-21 00:28:25 -0500 (Fri, 21 Feb 2025) EllapsedTime: 15.2 seconds RetCode: 0 Status: OK PackageFile: DirichletMultinomial_1.49.0.tgz PackageFileSize: 1.502 MiB