Package: DirichletMultinomial Version: 1.49.0 Command: /Library/Frameworks/R.framework/Resources/bin/R CMD build --keep-empty-dirs --no-resave-data DirichletMultinomial StartedAt: 2025-02-21 16:09:55 -0500 (Fri, 21 Feb 2025) EndedAt: 2025-02-21 16:10:03 -0500 (Fri, 21 Feb 2025) EllapsedTime: 8.1 seconds RetCode: 0 Status: OK PackageFile: DirichletMultinomial_1.49.0.tar.gz PackageFileSize: 1.061 MiB