Package: Dino Version: 1.13.0 Command: /Library/Frameworks/R.framework/Resources/bin/R CMD build --keep-empty-dirs --no-resave-data Dino StartedAt: 2025-02-20 16:31:00 -0500 (Thu, 20 Feb 2025) EndedAt: 2025-02-20 16:33:01 -0500 (Thu, 20 Feb 2025) EllapsedTime: 121.3 seconds RetCode: 0 Status: OK PackageFile: Dino_1.13.0.tar.gz PackageFileSize: 1.52 MiB