Package: Dino Version: 1.13.0 Command: /Library/Frameworks/R.framework/Resources/bin/R CMD INSTALL Dino StartedAt: 2025-02-19 15:25:44 -0500 (Wed, 19 Feb 2025) EndedAt: 2025-02-19 15:26:00 -0500 (Wed, 19 Feb 2025) EllapsedTime: 15.8 seconds RetCode: 0 Status: OK