Package: Dino Version: 1.13.0 Command: /Library/Frameworks/R.framework/Resources/bin/R CMD build --keep-empty-dirs --no-resave-data Dino StartedAt: 2025-02-19 16:10:19 -0500 (Wed, 19 Feb 2025) EndedAt: 2025-02-19 16:11:00 -0500 (Wed, 19 Feb 2025) EllapsedTime: 41.4 seconds RetCode: 0 Status: OK PackageFile: Dino_1.13.0.tar.gz PackageFileSize: 1.527 MiB