Package: DiffLogo Version: 2.31.0 Command: E:\biocbuild\bbs-3.21-bioc\R\bin\R.exe CMD INSTALL DiffLogo StartedAt: 2025-02-20 15:21:30 -0500 (Thu, 20 Feb 2025) EndedAt: 2025-02-20 15:22:08 -0500 (Thu, 20 Feb 2025) EllapsedTime: 38.6 seconds RetCode: 0 Status: OK