Package: DiffLogo Version: 2.31.0 Command: E:\biocbuild\bbs-3.21-bioc\R\bin\R.exe CMD check --no-multiarch --install=check:DiffLogo.install-out.txt --library=E:\biocbuild\bbs-3.21-bioc\R\library --no-vignettes --timings DiffLogo_2.31.0.tar.gz StartedAt: 2025-02-21 00:44:23 -0500 (Fri, 21 Feb 2025) EndedAt: 2025-02-21 00:45:12 -0500 (Fri, 21 Feb 2025) EllapsedTime: 49.2 seconds RetCode: 0 Status: WARNINGS CheckDir: DiffLogo.Rcheck Warnings: 1