Package: DiffLogo Version: 2.31.0 Command: rm -rf DiffLogo.buildbin-libdir && mkdir DiffLogo.buildbin-libdir && E:\biocbuild\bbs-3.21-bioc\R\bin\R.exe CMD INSTALL --build --library=DiffLogo.buildbin-libdir DiffLogo_2.31.0.tar.gz StartedAt: 2025-02-21 07:58:42 -0500 (Fri, 21 Feb 2025) EndedAt: 2025-02-21 07:59:05 -0500 (Fri, 21 Feb 2025) EllapsedTime: 23.6 seconds RetCode: 0 Status: OK PackageFile: DiffLogo_2.31.0.zip PackageFileSize: 978 KiB