Package: DiffLogo Version: 2.31.0 Command: /home/biocbuild/bbs-3.21-bioc/R/bin/R CMD INSTALL DiffLogo StartedAt: 2025-02-20 15:04:01 -0500 (Thu, 20 Feb 2025) EndedAt: 2025-02-20 15:04:04 -0500 (Thu, 20 Feb 2025) EllapsedTime: 2.5 seconds RetCode: 0 Status: OK