Package: DiffLogo Version: 2.31.0 Command: /Library/Frameworks/R.framework/Resources/bin/R CMD build --keep-empty-dirs --no-resave-data DiffLogo StartedAt: 2025-02-20 16:30:37 -0500 (Thu, 20 Feb 2025) EndedAt: 2025-02-20 16:31:31 -0500 (Thu, 20 Feb 2025) EllapsedTime: 53.7 seconds RetCode: 0 Status: OK PackageFile: DiffLogo_2.31.0.tar.gz PackageFileSize: 919.2 KiB