Package: DiffLogo Version: 2.31.0 Command: /Library/Frameworks/R.framework/Resources/bin/R CMD INSTALL DiffLogo StartedAt: 2025-02-20 15:02:55 -0500 (Thu, 20 Feb 2025) EndedAt: 2025-02-20 15:02:57 -0500 (Thu, 20 Feb 2025) EllapsedTime: 1.3 seconds RetCode: 0 Status: OK