Package: DiffLogo Version: 2.31.0 Command: /Library/Frameworks/R.framework/Resources/bin/R CMD check --install=check:DiffLogo.install-out.txt --library=/Library/Frameworks/R.framework/Resources/library --no-vignettes --timings DiffLogo_2.31.0.tar.gz StartedAt: 2025-02-20 19:00:28 -0500 (Thu, 20 Feb 2025) EndedAt: 2025-02-20 19:00:43 -0500 (Thu, 20 Feb 2025) EllapsedTime: 15.2 seconds RetCode: 0 Status: WARNINGS CheckDir: DiffLogo.Rcheck Warnings: 1