Package: DiffLogo Version: 2.31.0 Command: /Library/Frameworks/R.framework/Resources/bin/R CMD build --keep-empty-dirs --no-resave-data DiffLogo StartedAt: 2025-02-20 16:09:40 -0500 (Thu, 20 Feb 2025) EndedAt: 2025-02-20 16:10:02 -0500 (Thu, 20 Feb 2025) EllapsedTime: 21.2 seconds RetCode: 0 Status: OK PackageFile: DiffLogo_2.31.0.tar.gz PackageFileSize: 919.4 KiB