Package: DiffBind Version: 3.17.3 Command: /home/biocbuild/bbs-3.21-bioc/R/bin/R CMD INSTALL DiffBind StartedAt: 2025-02-19 15:53:45 -0500 (Wed, 19 Feb 2025) EndedAt: 2025-02-19 15:54:55 -0500 (Wed, 19 Feb 2025) EllapsedTime: 70.6 seconds RetCode: 0 Status: OK