Package: DiffBind Version: 3.17.3 Command: /home/biocbuild/bbs-3.21-bioc/R/bin/R CMD build --keep-empty-dirs --no-resave-data DiffBind StartedAt: 2025-02-20 17:15:16 -0500 (Thu, 20 Feb 2025) EndedAt: 2025-02-20 17:18:49 -0500 (Thu, 20 Feb 2025) EllapsedTime: 212.2 seconds RetCode: 0 Status: OK PackageFile: DiffBind_3.17.3.tar.gz PackageFileSize: 6.483 MiB