Package: DiffBind Version: 3.17.3 Command: /Library/Frameworks/R.framework/Resources/bin/R CMD INSTALL DiffBind StartedAt: 2025-02-20 15:25:10 -0500 (Thu, 20 Feb 2025) EndedAt: 2025-02-20 15:26:48 -0500 (Thu, 20 Feb 2025) EllapsedTime: 97.7 seconds RetCode: 0 Status: OK