Package: DiffBind Version: 3.17.3 Command: rm -rf DiffBind.buildbin-libdir && mkdir DiffBind.buildbin-libdir && /Users/biocbuild/BBS/utils/build-universal.sh DiffBind_3.17.3.tar.gz /Library/Frameworks/R.framework/Resources/bin/R DiffBind.buildbin-libdir StartedAt: 2025-02-20 00:29:19 -0500 (Thu, 20 Feb 2025) EndedAt: 2025-02-20 00:31:05 -0500 (Thu, 20 Feb 2025) EllapsedTime: 105.4 seconds RetCode: 0 Status: OK PackageFile: DiffBind_3.17.3.tgz PackageFileSize: 7.1 MiB