Package: DepecheR Version: 1.23.0 Command: E:\biocbuild\bbs-3.21-bioc\R\bin\R.exe CMD check --no-multiarch --install=check:DepecheR.install-out.txt --library=E:\biocbuild\bbs-3.21-bioc\R\library --no-vignettes --timings DepecheR_1.23.0.tar.gz StartedAt: 2025-02-21 00:36:54 -0500 (Fri, 21 Feb 2025) EndedAt: 2025-02-21 00:39:39 -0500 (Fri, 21 Feb 2025) EllapsedTime: 165.0 seconds RetCode: 0 Status: OK CheckDir: DepecheR.Rcheck Warnings: 0