Package: DepecheR Version: 1.23.0 Command: chmod a+r DepecheR -R && E:\biocbuild\bbs-3.21-bioc\R\bin\R.exe CMD build --keep-empty-dirs --no-resave-data DepecheR StartedAt: 2025-02-20 18:20:45 -0500 (Thu, 20 Feb 2025) EndedAt: 2025-02-20 18:22:00 -0500 (Thu, 20 Feb 2025) EllapsedTime: 75.1 seconds RetCode: 0 Status: OK PackageFile: DepecheR_1.23.0.tar.gz PackageFileSize: 2.561 MiB