Package: DepecheR Version: 1.23.0 Command: /home/biocbuild/bbs-3.21-bioc/R/bin/R CMD INSTALL DepecheR StartedAt: 2025-02-20 15:19:03 -0500 (Thu, 20 Feb 2025) EndedAt: 2025-02-20 15:19:30 -0500 (Thu, 20 Feb 2025) EllapsedTime: 26.1 seconds RetCode: 0 Status: OK