Package: DepInfeR Version: 1.11.0 Command: chmod a+r DepInfeR -R && E:\biocbuild\bbs-3.21-bioc\R\bin\R.exe CMD build --keep-empty-dirs --no-resave-data DepInfeR StartedAt: 2025-02-20 18:21:02 -0500 (Thu, 20 Feb 2025) EndedAt: 2025-02-20 18:22:18 -0500 (Thu, 20 Feb 2025) EllapsedTime: 76.1 seconds RetCode: 0 Status: OK PackageFile: DepInfeR_1.11.0.tar.gz PackageFileSize: 1.753 MiB