Package: DepInfeR Version: 1.11.0 Command: /home/biocbuild/bbs-3.21-bioc/R/bin/R CMD INSTALL DepInfeR StartedAt: 2025-02-20 15:09:04 -0500 (Thu, 20 Feb 2025) EndedAt: 2025-02-20 15:09:10 -0500 (Thu, 20 Feb 2025) EllapsedTime: 6.0 seconds RetCode: 0 Status: OK