Package: DepInfeR Version: 1.11.0 Command: /Library/Frameworks/R.framework/Resources/bin/R CMD check --install=check:DepInfeR.install-out.txt --library=/Library/Frameworks/R.framework/Resources/library --no-vignettes --timings DepInfeR_1.11.0.tar.gz StartedAt: 2025-02-20 20:00:11 -0500 (Thu, 20 Feb 2025) EndedAt: 2025-02-20 20:02:02 -0500 (Thu, 20 Feb 2025) EllapsedTime: 111.5 seconds RetCode: 0 Status: OK CheckDir: DepInfeR.Rcheck Warnings: 0