Package: DepInfeR Version: 1.11.0 Command: /home/biocbuild/R/R/bin/R CMD build --keep-empty-dirs --no-resave-data DepInfeR StartedAt: 2025-01-28 22:25:06 -0000 (Tue, 28 Jan 2025) EndedAt: 2025-01-28 22:26:10 -0000 (Tue, 28 Jan 2025) EllapsedTime: 64.0 seconds RetCode: 0 Status: OK PackageFile: DepInfeR_1.11.0.tar.gz PackageFileSize: 1.871 MiB