Package: DepInfeR Version: 1.11.0 Command: rm -rf DepInfeR.buildbin-libdir && mkdir DepInfeR.buildbin-libdir && /Users/biocbuild/BBS/utils/build-universal.sh DepInfeR_1.11.0.tar.gz /Library/Frameworks/R.framework/Resources/bin/R DepInfeR.buildbin-libdir StartedAt: 2025-02-20 22:16:36 -0500 (Thu, 20 Feb 2025) EndedAt: 2025-02-20 22:16:39 -0500 (Thu, 20 Feb 2025) EllapsedTime: 3.1 seconds RetCode: 0 Status: OK PackageFile: DepInfeR_1.11.0.tgz PackageFileSize: 2.375 MiB