Package: DelayedTensor Version: 1.13.0 Command: E:\biocbuild\bbs-3.21-bioc\R\bin\R.exe CMD INSTALL DelayedTensor StartedAt: 2025-02-19 16:47:44 -0500 (Wed, 19 Feb 2025) EndedAt: 2025-02-19 16:48:52 -0500 (Wed, 19 Feb 2025) EllapsedTime: 67.1 seconds RetCode: 0 Status: OK