Package: DelayedTensor Version: 1.14.0 Command: /Library/Frameworks/R.framework/Resources/bin/R CMD INSTALL DelayedTensor StartedAt: 2025-10-13 16:40:15 -0400 (Mon, 13 Oct 2025) EndedAt: 2025-10-13 16:41:14 -0400 (Mon, 13 Oct 2025) EllapsedTime: 59.2 seconds RetCode: 0 Status: OK