Package: DelayedTensor Version: 1.14.0 Command: /Library/Frameworks/R.framework/Resources/bin/R CMD build --keep-empty-dirs --no-resave-data DelayedTensor StartedAt: 2025-10-09 18:29:16 -0400 (Thu, 09 Oct 2025) EndedAt: 2025-10-09 18:36:21 -0400 (Thu, 09 Oct 2025) EllapsedTime: 425.1 seconds RetCode: 0 Status: OK PackageFile: DelayedTensor_1.14.0.tar.gz PackageFileSize: 4.128 MiB