Package: DelayedTensor Version: 1.14.0 Command: /Library/Frameworks/R.framework/Resources/bin/R CMD INSTALL DelayedTensor StartedAt: 2025-09-29 18:25:06 -0400 (Mon, 29 Sep 2025) EndedAt: 2025-09-29 18:25:43 -0400 (Mon, 29 Sep 2025) EllapsedTime: 37.3 seconds RetCode: 0 Status: OK