Package: DelayedTensor Version: 1.14.0 Command: /Library/Frameworks/R.framework/Resources/bin/R CMD build --keep-empty-dirs --no-resave-data DelayedTensor StartedAt: 2025-09-29 23:06:02 -0400 (Mon, 29 Sep 2025) EndedAt: 2025-09-29 23:09:31 -0400 (Mon, 29 Sep 2025) EllapsedTime: 208.4 seconds RetCode: 0 Status: OK PackageFile: DelayedTensor_1.14.0.tar.gz PackageFileSize: 4.129 MiB