Package: DelayedRandomArray Version: 1.15.0 Command: chmod a+r DelayedRandomArray -R && E:\biocbuild\bbs-3.21-bioc\R\bin\R.exe CMD build --keep-empty-dirs --no-resave-data DelayedRandomArray StartedAt: 2025-02-19 18:18:01 -0500 (Wed, 19 Feb 2025) EndedAt: 2025-02-19 18:19:50 -0500 (Wed, 19 Feb 2025) EllapsedTime: 109.4 seconds RetCode: 0 Status: OK PackageFile: DelayedRandomArray_1.15.0.tar.gz PackageFileSize: 318.9 KiB