Package: DelayedRandomArray Version: 1.15.0 Command: /home/biocbuild/bbs-3.21-bioc/R/bin/R CMD INSTALL DelayedRandomArray StartedAt: 2025-02-19 15:16:36 -0500 (Wed, 19 Feb 2025) EndedAt: 2025-02-19 15:17:06 -0500 (Wed, 19 Feb 2025) EllapsedTime: 30.0 seconds RetCode: 0 Status: OK