Package: DelayedRandomArray Version: 1.15.0 Command: /home/biocbuild/bbs-3.21-bioc/R/bin/R CMD build --keep-empty-dirs --no-resave-data DelayedRandomArray StartedAt: 2025-02-19 16:56:54 -0500 (Wed, 19 Feb 2025) EndedAt: 2025-02-19 16:57:36 -0500 (Wed, 19 Feb 2025) EllapsedTime: 41.0 seconds RetCode: 0 Status: OK PackageFile: DelayedRandomArray_1.15.0.tar.gz PackageFileSize: 318.8 KiB