Package: DelayedMatrixStats Version: 1.29.1 Command: E:\biocbuild\bbs-3.21-bioc\R\bin\R.exe CMD INSTALL DelayedMatrixStats StartedAt: 2025-02-19 15:51:22 -0500 (Wed, 19 Feb 2025) EndedAt: 2025-02-19 15:54:13 -0500 (Wed, 19 Feb 2025) EllapsedTime: 171.5 seconds RetCode: 0 Status: OK