Package: DelayedMatrixStats Version: 1.29.1 Command: chmod a+r DelayedMatrixStats -R && E:\biocbuild\bbs-3.21-bioc\R\bin\R.exe CMD build --keep-empty-dirs --no-resave-data DelayedMatrixStats StartedAt: 2025-02-19 18:17:48 -0500 (Wed, 19 Feb 2025) EndedAt: 2025-02-19 18:24:33 -0500 (Wed, 19 Feb 2025) EllapsedTime: 405.1 seconds RetCode: 0 Status: OK PackageFile: DelayedMatrixStats_1.29.1.tar.gz PackageFileSize: 264.6 KiB