Package: DelayedMatrixStats Version: 1.30.0 Command: /Library/Frameworks/R.framework/Resources/bin/R CMD INSTALL DelayedMatrixStats StartedAt: 2025-10-06 15:28:22 -0400 (Mon, 06 Oct 2025) EndedAt: 2025-10-06 15:29:11 -0400 (Mon, 06 Oct 2025) EllapsedTime: 48.5 seconds RetCode: 0 Status: OK