Package: DelayedMatrixStats Version: 1.30.0 Command: /Library/Frameworks/R.framework/Resources/bin/R CMD build --keep-empty-dirs --no-resave-data DelayedMatrixStats StartedAt: 2025-10-06 18:27:26 -0400 (Mon, 06 Oct 2025) EndedAt: 2025-10-06 18:38:11 -0400 (Mon, 06 Oct 2025) EllapsedTime: 645.1 seconds RetCode: 0 Status: OK PackageFile: DelayedMatrixStats_1.30.0.tar.gz PackageFileSize: 264.2 KiB