Package: DelayedMatrixStats Version: 1.30.0 Command: rm -rf DelayedMatrixStats.buildbin-libdir && mkdir DelayedMatrixStats.buildbin-libdir && /Users/biocbuild/BBS/utils/build-universal.sh DelayedMatrixStats_1.30.0.tar.gz /Library/Frameworks/R.framework/Resources/bin/R DelayedMatrixStats.buildbin-libdir StartedAt: 2025-10-07 12:59:38 -0400 (Tue, 07 Oct 2025) EndedAt: 2025-10-07 13:00:31 -0400 (Tue, 07 Oct 2025) EllapsedTime: 52.7 seconds RetCode: 0 Status: OK PackageFile: DelayedMatrixStats_1.30.0.tgz PackageFileSize: 725.7 KiB