Package: DelayedMatrixStats Version: 1.29.1 Command: /Library/Frameworks/R.framework/Resources/bin/R CMD check --install=check:DelayedMatrixStats.install-out.txt --library=/Library/Frameworks/R.framework/Resources/library --no-vignettes --timings DelayedMatrixStats_1.29.1.tar.gz StartedAt: 2025-02-20 18:55:49 -0500 (Thu, 20 Feb 2025) EndedAt: 2025-02-20 18:57:27 -0500 (Thu, 20 Feb 2025) EllapsedTime: 98.1 seconds RetCode: 0 Status: OK CheckDir: DelayedMatrixStats.Rcheck Warnings: 0