Package: DelayedMatrixStats Version: 1.29.1 Command: rm -rf DelayedMatrixStats.buildbin-libdir && mkdir DelayedMatrixStats.buildbin-libdir && /Users/biocbuild/BBS/utils/build-universal.sh DelayedMatrixStats_1.29.1.tar.gz /Library/Frameworks/R.framework/Resources/bin/R DelayedMatrixStats.buildbin-libdir StartedAt: 2025-02-20 22:16:23 -0500 (Thu, 20 Feb 2025) EndedAt: 2025-02-20 22:16:32 -0500 (Thu, 20 Feb 2025) EllapsedTime: 9.1 seconds RetCode: 0 Status: OK PackageFile: DelayedMatrixStats_1.29.1.tgz PackageFileSize: 728.2 KiB