Package: DelayedDataFrame Version: 1.24.0 Command: /Library/Frameworks/R.framework/Resources/bin/R CMD INSTALL DelayedDataFrame StartedAt: 2025-09-29 15:29:22 -0400 (Mon, 29 Sep 2025) EndedAt: 2025-09-29 15:30:03 -0400 (Mon, 29 Sep 2025) EllapsedTime: 40.7 seconds RetCode: 0 Status: OK