Package: DelayedDataFrame Version: 1.23.0 Command: /Library/Frameworks/R.framework/Resources/bin/R CMD INSTALL DelayedDataFrame StartedAt: 2025-02-20 15:08:04 -0500 (Thu, 20 Feb 2025) EndedAt: 2025-02-20 15:08:44 -0500 (Thu, 20 Feb 2025) EllapsedTime: 40.0 seconds RetCode: 0 Status: OK