Package: DelayedDataFrame Version: 1.23.0 Command: /Library/Frameworks/R.framework/Resources/bin/R CMD build --keep-empty-dirs --no-resave-data DelayedDataFrame StartedAt: 2025-02-19 16:07:11 -0500 (Wed, 19 Feb 2025) EndedAt: 2025-02-19 16:07:23 -0500 (Wed, 19 Feb 2025) EllapsedTime: 12.1 seconds RetCode: 0 Status: OK PackageFile: DelayedDataFrame_1.23.0.tar.gz PackageFileSize: 486.4 KiB