Package: DelayedDataFrame Version: 1.23.0 Command: rm -rf DelayedDataFrame.buildbin-libdir && mkdir DelayedDataFrame.buildbin-libdir && /Users/biocbuild/BBS/utils/build-universal.sh DelayedDataFrame_1.23.0.tar.gz /Library/Frameworks/R.framework/Resources/bin/R DelayedDataFrame.buildbin-libdir StartedAt: 2025-02-19 22:19:29 -0500 (Wed, 19 Feb 2025) EndedAt: 2025-02-19 22:19:37 -0500 (Wed, 19 Feb 2025) EllapsedTime: 8.1 seconds RetCode: 0 Status: OK PackageFile: DelayedDataFrame_1.23.0.tgz PackageFileSize: 919 KiB