Package: DelayedArray Version: 0.33.6 Command: E:\biocbuild\bbs-3.21-bioc\R\bin\R.exe CMD INSTALL DelayedArray StartedAt: 2025-02-20 15:45:42 -0500 (Thu, 20 Feb 2025) EndedAt: 2025-02-20 15:50:29 -0500 (Thu, 20 Feb 2025) EllapsedTime: 286.8 seconds RetCode: 0 Status: OK