Package: DelayedArray Version: 0.33.6 Command: chmod a+r DelayedArray -R && E:\biocbuild\bbs-3.21-bioc\R\bin\R.exe CMD build --keep-empty-dirs --no-resave-data DelayedArray StartedAt: 2025-02-20 18:18:44 -0500 (Thu, 20 Feb 2025) EndedAt: 2025-02-20 18:21:01 -0500 (Thu, 20 Feb 2025) EllapsedTime: 137.0 seconds RetCode: 0 Status: OK PackageFile: DelayedArray_0.33.6.tar.gz PackageFileSize: 610.9 KiB