Package: DelayedArray Version: 0.33.6 Command: rm -rf DelayedArray.buildbin-libdir && mkdir DelayedArray.buildbin-libdir && E:\biocbuild\bbs-3.21-bioc\R\bin\R.exe CMD INSTALL --build --library=DelayedArray.buildbin-libdir DelayedArray_0.33.6.tar.gz StartedAt: 2025-02-21 07:56:45 -0500 (Fri, 21 Feb 2025) EndedAt: 2025-02-21 08:00:07 -0500 (Fri, 21 Feb 2025) EllapsedTime: 202.6 seconds RetCode: 0 Status: OK PackageFile: DelayedArray_0.33.6.zip PackageFileSize: 2.269 MiB