Package: DelayedArray Version: 0.34.1 Command: /Library/Frameworks/R.framework/Resources/bin/R CMD INSTALL DelayedArray StartedAt: 2025-10-02 15:26:23 -0400 (Thu, 02 Oct 2025) EndedAt: 2025-10-02 15:27:38 -0400 (Thu, 02 Oct 2025) EllapsedTime: 75.2 seconds RetCode: 0 Status: OK